BEGIN:VCALENDAR
PRODID:POKOLGÉP
VERSION:2.0
CALSCALE:GREGORIAN
BEGIN:VEVENT
UID:d97dec3ca3c59bc6910b835ee7c1dab7
DTSTAMP:20260424T161206Z
SUMMARY:POKOLGÉP
DTSTART;TZID=Europe/Budapest:20251108T200000
DTEND;TZID=Europe/Budapest:20251108T200000
LOCATION:Klinika Klub
END:VEVENT
END:VCALENDAR
